Package: meshr Version: 2.10.0 Command: /Library/Frameworks/R.framework/Resources/bin/R CMD INSTALL meshr StartedAt: 2024-10-16 16:24:23 -0400 (Wed, 16 Oct 2024) EndedAt: 2024-10-16 16:25:13 -0400 (Wed, 16 Oct 2024) EllapsedTime: 50.5 seconds RetCode: 0 Status: OK