Package: meshr Version: 2.10.0 Command: /Library/Frameworks/R.framework/Resources/bin/R CMD check --install=check:meshr.install-out.txt --library=/Library/Frameworks/R.framework/Resources/library --no-vignettes --timings meshr_2.10.0.tar.gz StartedAt: 2024-10-17 07:52:37 -0400 (Thu, 17 Oct 2024) EndedAt: 2024-10-17 07:59:06 -0400 (Thu, 17 Oct 2024) EllapsedTime: 389.0 seconds RetCode: 0 Status: OK CheckDir: meshr.Rcheck Warnings: 0