Package: meshr Version: 2.10.0 Command: /home/biocbuild/R/R-beta-2024-04-15_r86425/bin/R CMD build --keep-empty-dirs --no-resave-data meshr StartedAt: 2024-05-09 01:26:44 -0000 (Thu, 09 May 2024) EndedAt: 2024-05-09 01:27:17 -0000 (Thu, 09 May 2024) EllapsedTime: 33.0 seconds RetCode: 0 Status: OK PackageFile: meshr_2.10.0.tar.gz PackageFileSize: 1.002 MiB