Package: meshr Version: 2.10.0 Command: rm -rf meshr.buildbin-libdir && mkdir meshr.buildbin-libdir && /Users/biocbuild/BBS/utils/build-universal.sh meshr_2.10.0.tar.gz /Library/Frameworks/R.framework/Resources/bin/R meshr.buildbin-libdir StartedAt: 2024-06-11 11:57:07 -0400 (Tue, 11 Jun 2024) EndedAt: 2024-06-11 11:57:51 -0400 (Tue, 11 Jun 2024) EllapsedTime: 44.3 seconds RetCode: 0 Status: OK PackageFile: meshr_2.10.0.tgz PackageFileSize: 924.9 KiB