Package: meshr Version: 2.10.0 Command: /Library/Frameworks/R.framework/Resources/bin/R CMD INSTALL meshr StartedAt: 2024-10-16 18:05:21 -0400 (Wed, 16 Oct 2024) EndedAt: 2024-10-16 18:05:47 -0400 (Wed, 16 Oct 2024) EllapsedTime: 26.0 seconds RetCode: 0 Status: OK