Package: meshr Version: 2.10.0 Command: rm -rf meshr.buildbin-libdir && mkdir meshr.buildbin-libdir && /Users/biocbuild/BBS/utils/build-universal.sh meshr_2.10.0.tar.gz /Library/Frameworks/R.framework/Resources/bin/R meshr.buildbin-libdir StartedAt: 2024-10-18 19:18:35 -0400 (Fri, 18 Oct 2024) EndedAt: 2024-10-18 19:19:07 -0400 (Fri, 18 Oct 2024) EllapsedTime: 31.9 seconds RetCode: 0 Status: OK PackageFile: meshr_2.10.0.tgz PackageFileSize: 925 KiB