Package: meshes Version: 1.30.0 Command: E:\biocbuild\bbs-3.19-bioc\R\bin\R.exe CMD check --no-multiarch --install=check:meshes.install-out.txt --library=E:\biocbuild\bbs-3.19-bioc\R\library --no-vignettes --timings meshes_1.30.0.tar.gz StartedAt: 2024-10-17 03:03:12 -0400 (Thu, 17 Oct 2024) EndedAt: 2024-10-17 03:06:33 -0400 (Thu, 17 Oct 2024) EllapsedTime: 200.3 seconds RetCode: 0 Status: OK CheckDir: meshes.Rcheck Warnings: 0