Package: meshes Version: 1.30.0 Command: chmod a+r meshes -R && E:\biocbuild\bbs-3.19-bioc\R\bin\R.exe CMD build --keep-empty-dirs --no-resave-data meshes StartedAt: 2024-10-16 20:09:04 -0400 (Wed, 16 Oct 2024) EndedAt: 2024-10-16 20:09:38 -0400 (Wed, 16 Oct 2024) EllapsedTime: 34.2 seconds RetCode: 0 Status: OK PackageFile: meshes_1.30.0.tar.gz PackageFileSize: 922 KiB