Package: meshes Version: 1.30.0 Command: chmod a+r meshes -R && F:\biocbuild\bbs-3.19-bioc\R\bin\R.exe CMD build --keep-empty-dirs --no-resave-data meshes StartedAt: 2024-06-26 19:54:17 -0400 (Wed, 26 Jun 2024) EndedAt: 2024-06-26 19:54:53 -0400 (Wed, 26 Jun 2024) EllapsedTime: 36.4 seconds RetCode: 0 Status: OK PackageFile: meshes_1.30.0.tar.gz PackageFileSize: 922 KiB