Package: meshes Version: 1.30.0 Command: /Library/Frameworks/R.framework/Resources/bin/R CMD INSTALL meshes StartedAt: 2024-10-16 16:18:04 -0400 (Wed, 16 Oct 2024) EndedAt: 2024-10-16 16:19:03 -0400 (Wed, 16 Oct 2024) EllapsedTime: 58.8 seconds RetCode: 0 Status: OK