Package: meshes Version: 1.30.0 Maintainer: Guangchuang Yu MaintainerEmail: guangchuangyu at gmail.com git_url: https://git.bioconductor.org/packages/meshes git_branch: RELEASE_3_19 git_last_commit: e1e7f7c git_last_commit_date: 2024-04-30 10:54:41 -0400 (Tue, 30 Apr 2024)