Package: memes Version: 1.12.1 Command: E:\biocbuild\bbs-3.19-bioc\R\bin\R.exe CMD check --no-multiarch --install=check:memes.install-out.txt --library=E:\biocbuild\bbs-3.19-bioc\R\library --no-vignettes --timings memes_1.12.1.tar.gz StartedAt: 2024-10-17 03:02:55 -0400 (Thu, 17 Oct 2024) EndedAt: 2024-10-17 03:05:16 -0400 (Thu, 17 Oct 2024) EllapsedTime: 141.7 seconds RetCode: 0 Status: WARNINGS CheckDir: memes.Rcheck Warnings: 1