Package: memes Version: 1.12.1 Command: chmod a+r memes -R && E:\biocbuild\bbs-3.19-bioc\R\bin\R.exe CMD build --keep-empty-dirs --no-resave-data memes StartedAt: 2024-10-16 20:08:41 -0400 (Wed, 16 Oct 2024) EndedAt: 2024-10-16 20:10:15 -0400 (Wed, 16 Oct 2024) EllapsedTime: 93.3 seconds RetCode: 0 Status: OK PackageFile: memes_1.12.1.tar.gz PackageFileSize: 1.008 MiB