Package: memes Version: 1.12.0 Command: chmod a+r memes -R && F:\biocbuild\bbs-3.19-bioc\R\bin\R.exe CMD build --keep-empty-dirs --no-resave-data memes StartedAt: 2024-06-26 19:54:04 -0400 (Wed, 26 Jun 2024) EndedAt: 2024-06-26 19:55:41 -0400 (Wed, 26 Jun 2024) EllapsedTime: 96.8 seconds RetCode: 0 Status: OK PackageFile: memes_1.12.0.tar.gz PackageFileSize: 1.008 MiB