Package: memes Version: 1.12.1 Command: /home/biocbuild/bbs-3.19-bioc/R/bin/R CMD build --keep-empty-dirs --no-resave-data memes StartedAt: 2024-10-16 19:19:53 -0400 (Wed, 16 Oct 2024) EndedAt: 2024-10-16 19:20:47 -0400 (Wed, 16 Oct 2024) EllapsedTime: 54.1 seconds RetCode: 0 Status: OK PackageFile: memes_1.12.1.tar.gz PackageFileSize: 1.03 MiB