Package: memes Version: 1.12.1 Command: /Library/Frameworks/R.framework/Resources/bin/R CMD check --install=check:memes.install-out.txt --library=/Library/Frameworks/R.framework/Resources/library --no-vignettes --timings memes_1.12.1.tar.gz StartedAt: 2024-10-17 07:52:15 -0400 (Thu, 17 Oct 2024) EndedAt: 2024-10-17 08:12:36 -0400 (Thu, 17 Oct 2024) EllapsedTime: 1220.9 seconds RetCode: 0 Status: WARNINGS CheckDir: memes.Rcheck Warnings: 1