Package: memes Version: 1.12.0 Command: /Library/Frameworks/R.framework/Resources/bin/R CMD INSTALL memes StartedAt: 2024-06-09 15:27:04 -0400 (Sun, 09 Jun 2024) EndedAt: 2024-06-09 15:27:23 -0400 (Sun, 09 Jun 2024) EllapsedTime: 19.2 seconds RetCode: 0 Status: OK