Package: memes Version: 1.12.0 Command: /Library/Frameworks/R.framework/Resources/bin/R CMD check --install=check:memes.install-out.txt --library=/Library/Frameworks/R.framework/Resources/library --no-vignettes --timings memes_1.12.0.tar.gz StartedAt: 2024-06-10 21:01:57 -0400 (Mon, 10 Jun 2024) EndedAt: 2024-06-10 21:05:42 -0400 (Mon, 10 Jun 2024) EllapsedTime: 224.8 seconds RetCode: 0 Status: WARNINGS CheckDir: memes.Rcheck Warnings: 1