Package: memes Version: 1.12.1 Command: rm -rf memes.buildbin-libdir && mkdir memes.buildbin-libdir && /Users/biocbuild/BBS/utils/build-universal.sh memes_1.12.1.tar.gz /Library/Frameworks/R.framework/Resources/bin/R memes.buildbin-libdir StartedAt: 2024-10-18 19:18:07 -0400 (Fri, 18 Oct 2024) EndedAt: 2024-10-18 19:18:29 -0400 (Fri, 18 Oct 2024) EllapsedTime: 21.8 seconds RetCode: 0 Status: OK PackageFile: memes_1.12.1.tgz PackageFileSize: 1.213 MiB