Package: megadepth Version: 1.14.0 Command: rm -rf megadepth.buildbin-libdir && mkdir megadepth.buildbin-libdir && /Users/biocbuild/BBS/utils/build-universal.sh megadepth_1.14.0.tar.gz /Library/Frameworks/R.framework/Resources/bin/R megadepth.buildbin-libdir StartedAt: 2024-10-17 16:31:59 -0400 (Thu, 17 Oct 2024) EndedAt: 2024-10-17 16:32:30 -0400 (Thu, 17 Oct 2024) EllapsedTime: 30.6 seconds RetCode: 0 Status: OK PackageFile: megadepth_1.14.0.tgz PackageFileSize: 482.9 KiB