Package: megadepth Version: 1.14.0 Command: /Library/Frameworks/R.framework/Resources/bin/R CMD build --keep-empty-dirs --no-resave-data megadepth StartedAt: 2024-06-09 23:56:35 -0400 (Sun, 09 Jun 2024) EndedAt: 2024-06-09 23:57:40 -0400 (Sun, 09 Jun 2024) EllapsedTime: 64.5 seconds RetCode: 0 Status: OK PackageFile: megadepth_1.14.0.tar.gz PackageFileSize: 465.8 KiB