Package: mdqc Version: 1.66.0 Command: /home/biocbuild/bbs-3.19-bioc/R/bin/R CMD INSTALL mdqc StartedAt: 2024-10-16 15:49:29 -0400 (Wed, 16 Oct 2024) EndedAt: 2024-10-16 15:49:34 -0400 (Wed, 16 Oct 2024) EllapsedTime: 5.1 seconds RetCode: 0 Status: OK