Package: mdqc Version: 1.66.0 Command: /Library/Frameworks/R.framework/Resources/bin/R CMD check --install=check:mdqc.install-out.txt --library=/Library/Frameworks/R.framework/Resources/library --no-vignettes --timings mdqc_1.66.0.tar.gz StartedAt: 2024-10-18 02:54:57 -0400 (Fri, 18 Oct 2024) EndedAt: 2024-10-18 02:55:28 -0400 (Fri, 18 Oct 2024) EllapsedTime: 30.2 seconds RetCode: 0 Status: OK CheckDir: mdqc.Rcheck Warnings: 0