Package: mbkmeans Version: 1.20.0 Command: E:\biocbuild\bbs-3.19-bioc\R\bin\R.exe CMD INSTALL mbkmeans StartedAt: 2024-10-16 16:25:32 -0400 (Wed, 16 Oct 2024) EndedAt: 2024-10-16 16:26:26 -0400 (Wed, 16 Oct 2024) EllapsedTime: 54.0 seconds RetCode: 0 Status: OK