Package: mbkmeans Version: 1.20.0 Command: E:\biocbuild\bbs-3.19-bioc\R\bin\R.exe CMD check --no-multiarch --install=check:mbkmeans.install-out.txt --library=E:\biocbuild\bbs-3.19-bioc\R\library --no-vignettes --timings mbkmeans_1.20.0.tar.gz StartedAt: 2024-10-17 02:58:28 -0400 (Thu, 17 Oct 2024) EndedAt: 2024-10-17 03:04:46 -0400 (Thu, 17 Oct 2024) EllapsedTime: 377.6 seconds RetCode: 0 Status: OK CheckDir: mbkmeans.Rcheck Warnings: 0