Package: mbkmeans Version: 1.20.0 Command: chmod a+r mbkmeans -R && E:\biocbuild\bbs-3.19-bioc\R\bin\R.exe CMD build --keep-empty-dirs --no-resave-data mbkmeans StartedAt: 2024-10-16 20:06:31 -0400 (Wed, 16 Oct 2024) EndedAt: 2024-10-16 20:08:29 -0400 (Wed, 16 Oct 2024) EllapsedTime: 118.0 seconds RetCode: 0 Status: OK PackageFile: mbkmeans_1.20.0.tar.gz PackageFileSize: 257.5 KiB