Package: mbkmeans Version: 1.20.0 Command: /home/biocbuild/bbs-3.19-bioc/R/bin/R CMD build --keep-empty-dirs --no-resave-data mbkmeans StartedAt: 2024-10-16 19:18:05 -0400 (Wed, 16 Oct 2024) EndedAt: 2024-10-16 19:19:39 -0400 (Wed, 16 Oct 2024) EllapsedTime: 94.2 seconds RetCode: 0 Status: OK PackageFile: mbkmeans_1.20.0.tar.gz PackageFileSize: 266.7 KiB