Package: mbkmeans Version: 1.20.0 Command: rm -rf mbkmeans.buildbin-libdir && mkdir mbkmeans.buildbin-libdir && /Users/biocbuild/BBS/utils/build-universal.sh mbkmeans_1.20.0.tar.gz /Library/Frameworks/R.framework/Resources/bin/R mbkmeans.buildbin-libdir StartedAt: 2024-10-17 16:31:05 -0400 (Thu, 17 Oct 2024) EndedAt: 2024-10-17 16:33:01 -0400 (Thu, 17 Oct 2024) EllapsedTime: 115.3 seconds RetCode: 0 Status: OK PackageFile: mbkmeans_1.20.0.tgz PackageFileSize: 443.1 KiB