Package: mbkmeans Version: 1.20.0 Command: rm -rf mbkmeans.buildbin-libdir && mkdir mbkmeans.buildbin-libdir && /Users/biocbuild/BBS/utils/build-universal.sh mbkmeans_1.20.0.tar.gz /Library/Frameworks/R.framework/Resources/bin/R mbkmeans.buildbin-libdir StartedAt: 2024-06-10 00:25:29 -0400 (Mon, 10 Jun 2024) EndedAt: 2024-06-10 00:26:33 -0400 (Mon, 10 Jun 2024) EllapsedTime: 63.1 seconds RetCode: 0 Status: OK PackageFile: mbkmeans_1.20.0.tgz PackageFileSize: 441.3 KiB