Package: mbkmeans Version: 1.20.0 Command: /home/biocbuild/R/R-beta-2024-04-15_r86425/bin/R CMD INSTALL mbkmeans StartedAt: 2024-05-08 20:31:52 -0000 (Wed, 08 May 2024) EndedAt: 2024-05-08 20:33:15 -0000 (Wed, 08 May 2024) EllapsedTime: 82.5 seconds RetCode: 0 Status: OK