Package: mbQTL Version: 1.4.0 Command: chmod a+r mbQTL -R && E:\biocbuild\bbs-3.19-bioc\R\bin\R.exe CMD build --keep-empty-dirs --no-resave-data mbQTL StartedAt: 2024-10-16 20:06:49 -0400 (Wed, 16 Oct 2024) EndedAt: 2024-10-16 20:08:25 -0400 (Wed, 16 Oct 2024) EllapsedTime: 95.0 seconds RetCode: 0 Status: OK PackageFile: mbQTL_1.4.0.tar.gz PackageFileSize: 731.5 KiB