Package: mbQTL Version: 1.4.0 Command: rm -rf mbQTL.buildbin-libdir && mkdir mbQTL.buildbin-libdir && F:\biocbuild\bbs-3.19-bioc\R\bin\R.exe CMD INSTALL --build --library=mbQTL.buildbin-libdir mbQTL_1.4.0.tar.gz StartedAt: 2024-06-27 08:27:39 -0400 (Thu, 27 Jun 2024) EndedAt: 2024-06-27 08:28:08 -0400 (Thu, 27 Jun 2024) EllapsedTime: 28.4 seconds RetCode: 0 Status: OK PackageFile: mbQTL_1.4.0.zip PackageFileSize: 785.5 KiB