Package: mbQTL Version: 1.4.0 Command: /home/biocbuild/bbs-3.19-bioc/R/bin/R CMD build --keep-empty-dirs --no-resave-data mbQTL StartedAt: 2024-10-16 19:18:25 -0400 (Wed, 16 Oct 2024) EndedAt: 2024-10-16 19:19:28 -0400 (Wed, 16 Oct 2024) EllapsedTime: 63.1 seconds RetCode: 0 Status: OK PackageFile: mbQTL_1.4.0.tar.gz PackageFileSize: 1.323 MiB