Package: mbQTL Version: 1.4.0 Command: /Library/Frameworks/R.framework/Resources/bin/R CMD build --keep-empty-dirs --no-resave-data mbQTL StartedAt: 2024-10-16 20:34:47 -0400 (Wed, 16 Oct 2024) EndedAt: 2024-10-16 20:37:52 -0400 (Wed, 16 Oct 2024) EllapsedTime: 185.1 seconds RetCode: 0 Status: OK PackageFile: mbQTL_1.4.0.tar.gz PackageFileSize: 1.459 MiB