Package: mbQTL Version: 1.4.0 Command: rm -rf mbQTL.buildbin-libdir && mkdir mbQTL.buildbin-libdir && /Users/biocbuild/BBS/utils/build-universal.sh mbQTL_1.4.0.tar.gz /Library/Frameworks/R.framework/Resources/bin/R mbQTL.buildbin-libdir StartedAt: 2024-06-10 00:25:33 -0400 (Mon, 10 Jun 2024) EndedAt: 2024-06-10 00:25:49 -0400 (Mon, 10 Jun 2024) EllapsedTime: 15.8 seconds RetCode: 0 Status: OK PackageFile: mbQTL_1.4.0.tgz PackageFileSize: 1.509 MiB