Package: mbQTL Version: 1.4.0 Command: /Library/Frameworks/R.framework/Resources/bin/R CMD check --install=check:mbQTL.install-out.txt --library=/Library/Frameworks/R.framework/Resources/library --no-vignettes --timings mbQTL_1.4.0.tar.gz StartedAt: 2024-10-18 02:51:04 -0400 (Fri, 18 Oct 2024) EndedAt: 2024-10-18 02:52:48 -0400 (Fri, 18 Oct 2024) EllapsedTime: 104.3 seconds RetCode: 0 Status: OK CheckDir: mbQTL.Rcheck Warnings: 0