Package: matchBox Version: 1.46.0 Command: chmod a+r matchBox -R && F:\biocbuild\bbs-3.19-bioc\R\bin\R.exe CMD build --keep-empty-dirs --no-resave-data matchBox StartedAt: 2024-06-26 19:50:27 -0400 (Wed, 26 Jun 2024) EndedAt: 2024-06-26 19:50:42 -0400 (Wed, 26 Jun 2024) EllapsedTime: 15.5 seconds RetCode: 0 Status: OK PackageFile: matchBox_1.46.0.tar.gz PackageFileSize: 605.7 KiB