Package: matchBox Version: 1.46.0 Command: /home/biocbuild/bbs-3.19-bioc/R/bin/R CMD build --keep-empty-dirs --no-resave-data matchBox StartedAt: 2024-10-16 19:17:22 -0400 (Wed, 16 Oct 2024) EndedAt: 2024-10-16 19:17:28 -0400 (Wed, 16 Oct 2024) EllapsedTime: 6.0 seconds RetCode: 0 Status: OK PackageFile: matchBox_1.46.0.tar.gz PackageFileSize: 606.1 KiB