Package: mastR Version: 1.4.0 Command: chmod a+r mastR -R && E:\biocbuild\bbs-3.19-bioc\R\bin\R.exe CMD build --keep-empty-dirs --no-resave-data mastR StartedAt: 2024-10-16 20:05:07 -0400 (Wed, 16 Oct 2024) EndedAt: 2024-10-16 20:08:37 -0400 (Wed, 16 Oct 2024) EllapsedTime: 209.6 seconds RetCode: 0 Status: OK PackageFile: mastR_1.4.0.tar.gz PackageFileSize: 1.821 MiB