Package: mastR Version: 1.4.0 Command: rm -rf mastR.buildbin-libdir && mkdir mastR.buildbin-libdir && F:\biocbuild\bbs-3.19-bioc\R\bin\R.exe CMD INSTALL --build --library=mastR.buildbin-libdir mastR_1.4.0.tar.gz StartedAt: 2024-06-27 08:27:15 -0400 (Thu, 27 Jun 2024) EndedAt: 2024-06-27 08:28:20 -0400 (Thu, 27 Jun 2024) EllapsedTime: 65.0 seconds RetCode: 0 Status: OK PackageFile: mastR_1.4.0.zip PackageFileSize: 2.021 MiB