Package: mastR Version: 1.4.0 Command: /home/biocbuild/bbs-3.19-bioc/R/bin/R CMD INSTALL mastR StartedAt: 2024-10-16 16:44:21 -0400 (Wed, 16 Oct 2024) EndedAt: 2024-10-16 16:45:01 -0400 (Wed, 16 Oct 2024) EllapsedTime: 40.7 seconds RetCode: 0 Status: OK