Package: mastR Version: 1.4.0 Command: /home/biocbuild/bbs-3.19-bioc/R/bin/R CMD check --install=check:mastR.install-out.txt --library=/home/biocbuild/bbs-3.19-bioc/R/site-library --timings mastR_1.4.0.tar.gz StartedAt: 2024-10-17 02:03:07 -0400 (Thu, 17 Oct 2024) EndedAt: 2024-10-17 02:14:21 -0400 (Thu, 17 Oct 2024) EllapsedTime: 674.5 seconds RetCode: 0 Status: OK CheckDir: mastR.Rcheck Warnings: 0