Package: mastR Version: 1.4.0 Command: /home/biocbuild/bbs-3.19-bioc/R/bin/R CMD build --keep-empty-dirs --no-resave-data mastR StartedAt: 2024-10-16 19:16:55 -0400 (Wed, 16 Oct 2024) EndedAt: 2024-10-16 19:19:10 -0400 (Wed, 16 Oct 2024) EllapsedTime: 135.3 seconds RetCode: 0 Status: OK PackageFile: mastR_1.4.0.tar.gz PackageFileSize: 2.726 MiB