Package: mastR Version: 1.4.0 Command: rm -rf mastR.buildbin-libdir && mkdir mastR.buildbin-libdir && /Users/biocbuild/BBS/utils/build-universal.sh mastR_1.4.0.tar.gz /Library/Frameworks/R.framework/Resources/bin/R mastR.buildbin-libdir StartedAt: 2024-10-17 16:30:47 -0400 (Thu, 17 Oct 2024) EndedAt: 2024-10-17 16:32:35 -0400 (Thu, 17 Oct 2024) EllapsedTime: 108.0 seconds RetCode: 0 Status: OK PackageFile: mastR_1.4.0.tgz PackageFileSize: 3.301 MiB