Package: mastR Version: 1.4.0 Command: rm -rf mastR.buildbin-libdir && mkdir mastR.buildbin-libdir && /Users/biocbuild/BBS/utils/build-universal.sh mastR_1.4.0.tar.gz /Library/Frameworks/R.framework/Resources/bin/R mastR.buildbin-libdir StartedAt: 2024-06-11 11:54:21 -0400 (Tue, 11 Jun 2024) EndedAt: 2024-06-11 11:55:44 -0400 (Tue, 11 Jun 2024) EllapsedTime: 83.1 seconds RetCode: 0 Status: OK PackageFile: mastR_1.4.0.tgz PackageFileSize: 3.296 MiB