Package: mastR Version: 1.4.0 Command: rm -rf mastR.buildbin-libdir && mkdir mastR.buildbin-libdir && /Users/biocbuild/BBS/utils/build-universal.sh mastR_1.4.0.tar.gz /Library/Frameworks/R.framework/Resources/bin/R mastR.buildbin-libdir StartedAt: 2024-10-18 19:15:02 -0400 (Fri, 18 Oct 2024) EndedAt: 2024-10-18 19:16:02 -0400 (Fri, 18 Oct 2024) EllapsedTime: 60.0 seconds RetCode: 0 Status: OK PackageFile: mastR_1.4.0.tgz PackageFileSize: 3.304 MiB