Package: massiR Version: 1.40.0 Command: rm -rf massiR.buildbin-libdir && mkdir massiR.buildbin-libdir && F:\biocbuild\bbs-3.19-bioc\R\bin\R.exe CMD INSTALL --build --library=massiR.buildbin-libdir massiR_1.40.0.tar.gz StartedAt: 2024-06-27 08:27:07 -0400 (Thu, 27 Jun 2024) EndedAt: 2024-06-27 08:27:13 -0400 (Thu, 27 Jun 2024) EllapsedTime: 6.7 seconds RetCode: 0 Status: OK PackageFile: massiR_1.40.0.zip PackageFileSize: 1.064 MiB