Package: maskBAD Version: 1.48.0 Command: E:\biocbuild\bbs-3.19-bioc\R\bin\R.exe CMD INSTALL maskBAD StartedAt: 2024-10-16 16:13:54 -0400 (Wed, 16 Oct 2024) EndedAt: 2024-10-16 16:14:08 -0400 (Wed, 16 Oct 2024) EllapsedTime: 14.8 seconds RetCode: 0 Status: OK