Package: maskBAD Version: 1.48.0 Command: E:\biocbuild\bbs-3.19-bioc\R\bin\R.exe CMD check --no-multiarch --install=check:maskBAD.install-out.txt --library=E:\biocbuild\bbs-3.19-bioc\R\library --no-vignettes --timings maskBAD_1.48.0.tar.gz StartedAt: 2024-10-17 02:56:18 -0400 (Thu, 17 Oct 2024) EndedAt: 2024-10-17 02:57:59 -0400 (Thu, 17 Oct 2024) EllapsedTime: 101.7 seconds RetCode: 0 Status: OK CheckDir: maskBAD.Rcheck Warnings: 0