Package: maskBAD Version: 1.48.0 Command: rm -rf maskBAD.buildbin-libdir && mkdir maskBAD.buildbin-libdir && E:\biocbuild\bbs-3.19-bioc\R\bin\R.exe CMD INSTALL --build --library=maskBAD.buildbin-libdir maskBAD_1.48.0.tar.gz StartedAt: 2024-10-17 08:04:41 -0400 (Thu, 17 Oct 2024) EndedAt: 2024-10-17 08:05:01 -0400 (Thu, 17 Oct 2024) EllapsedTime: 19.9 seconds RetCode: 0 Status: OK PackageFile: maskBAD_1.48.0.zip PackageFileSize: 1.415 MiB